BEGIN:VCALENDAR
PRODID:-//Ben Fortuna//iCal4j 1.0//EN
VERSION:2.0
CALSCALE:GREGORIAN
BEGIN:VTIMEZONE
TZID:Europe/Berlin
LAST-MODIFIED:20201010T011803Z
TZURL:http://tzurl.org/zoneinfo/Europe/Berlin
X-LIC-LOCATION:Europe/Berlin
X-PROLEPTIC-TZNAME:LMT
BEGIN:STANDARD
TZNAME:CET
TZOFFSETFROM:+005328
TZOFFSETTO:+0100
DTSTART:18930401T000000
END:STANDARD
BEGIN:DAYLIGHT
TZNAME:CEST
TZOFFSETFROM:+0100
TZOFFSETTO:+0200
DTSTART:19160430T230000
RDATE:19400401T020000
RDATE:19430329T020000
RDATE:19460414T020000
RDATE:19470406T030000
RDATE:19480418T020000
RDATE:19490410T020000
RDATE:19800406T020000
END:DAYLIGHT
BEGIN:STANDARD
TZNAME:CET
TZOFFSETFROM:+0200
TZOFFSETTO:+0100
DTSTART:19161001T010000
RDATE:19421102T030000
RDATE:19431004T030000
RDATE:19441002T030000
RDATE:19451118T030000
RDATE:19461007T030000
END:STANDARD
BEGIN:DAYLIGHT
TZNAME:CEST
TZOFFSETFROM:+0100
TZOFFSETTO:+0200
DTSTART:19170416T020000
RRULE:FREQ=YEARLY;UNTIL=19180415T010000Z;BYMONTH=4;BYDAY=3MO
END:DAYLIGHT
BEGIN:STANDARD
TZNAME:CET
TZOFFSETFROM:+0200
TZOFFSETTO:+0100
DTSTART:19170917T030000
RRULE:FREQ=YEARLY;UNTIL=19180916T010000Z;BYMONTH=9;BYDAY=3MO
END:STANDARD
BEGIN:DAYLIGHT
TZNAME:CEST
TZOFFSETFROM:+0100
TZOFFSETTO:+0200
DTSTART:19440403T020000
RRULE:FREQ=YEARLY;UNTIL=19450402T010000Z;BYMONTH=4;BYDAY=1MO
END:DAYLIGHT
BEGIN:DAYLIGHT
TZNAME:CEMT
TZOFFSETFROM:+0200
TZOFFSETTO:+0300
DTSTART:19450524T020000
RDATE:19470511T030000
END:DAYLIGHT
BEGIN:DAYLIGHT
TZNAME:CEST
TZOFFSETFROM:+0300
TZOFFSETTO:+0200
DTSTART:19450924T030000
RDATE:19470629T030000
END:DAYLIGHT
BEGIN:STANDARD
TZNAME:CET
TZOFFSETFROM:+0100
TZOFFSETTO:+0100
DTSTART:19460101T000000
RDATE:19800101T000000
END:STANDARD
BEGIN:STANDARD
TZNAME:CET
TZOFFSETFROM:+0200
TZOFFSETTO:+0100
DTSTART:19471005T030000
RRULE:FREQ=YEARLY;UNTIL=19491002T010000Z;BYMONTH=10;BYDAY=1SU
END:STANDARD
BEGIN:STANDARD
TZNAME:CET
TZOFFSETFROM:+0200
TZOFFSETTO:+0100
DTSTART:19800928T030000
RRULE:FREQ=YEARLY;UNTIL=19950924T010000Z;BYMONTH=9;BYDAY=-1SU
END:STANDARD
BEGIN:DAYLIGHT
TZNAME:CEST
TZOFFSETFROM:+0100
TZOFFSETTO:+0200
DTSTART:19810329T020000
RRULE:FREQ=YEARLY;BYMONTH=3;BYDAY=-1SU
END:DAYLIGHT
BEGIN:STANDARD
TZNAME:CET
TZOFFSETFROM:+0200
TZOFFSETTO:+0100
DTSTART:19961027T030000
RRULE:FREQ=YEARLY;BYMONTH=10;BYDAY=-1SU
END:STANDARD
END:VTIMEZONE
BEGIN:VEVENT
DTSTAMP:20260421T122642Z
DTSTART;TZID=Europe/Berlin:20260505T163000
DTEND;TZID=Europe/Berlin:20260505T180000
SUMMARY:Buchclub Jugendforum 
CREATED:20260420T092047Z
LAST-MODIFIED:20260420T105335Z
DESCRIPTION:\"Aktionsgruppe Buchclub\" heißt die neue Veranstaltung\, die
  das Jugendforum der Partnerschaft für Demokratie im Zusammenarbeit mit 
 unserer Stadtbibliothek im Wechsel in der Bibliothek Rheda und in der Bi
 bliothek Wiedenbrück stattfinden lassen möchte. In diesem Buchclub verst
 ändigen sich Jugendliche gemeinsam auf ein Buch\, welches sie dann absch
 nittsweise lesen. In monatlichen Treffen werden die gelesenen Abschnitte
  besprochen und reflektiert. Der Fokus liegt dabei auf dem Thema Demokra
 tie und Menschrechte. \n\nEin Auftakttreffen ist für Dienstag\, den 05. 
 Mai 26 in der Bibliothek Wiedenbrück geplant\, die Termine für die monat
 lichen Treffen werden festgelegt\, sobald sich die Gruppe formiert hat.\
 n\n Jugendforum der Partnerschaft für Demokratie\n\nDas 2017 gegründete 
 und bei der VHS Reckenberg-Ems angesiedelte Jugendforum ist zentraler Te
 il des städtischen Programms „Demokratie leben!“. Ziel ist es\, die Bete
 iligung von jungen Menschen auf kommunaler Ebene zu stärken. Die Jugendl
 ichen organisieren und leiten das Gremium selbst und haben z.B. das Demo
 kratiefest in 2023 veranstaltet.\n\n 
LOCATION:Bibliothek Wiedenbrück
X-LOCATION-NAME:Bibliothek Wiedenbrück
X-STREET-ADDRESS:Kirchplatz 2
X-POSTAL-CODE:33378
X-LOCALITY:Rheda-Wiedenbrück
X-COUNTRY:Deutschland
URL:https://www.vhs-re.de/demokratie-leben/jugendforum
X-IONAS-CATEGORY:Junge Erwachsene
CATEGORIES:Junge Erwachsene,Buchclub,Literaturkreis,Jugendliche,Jugendfor
 um Rheda-Wiedenbrück,VHS Reckenberg-Ems,Volkshochschule Reckenberg-Ems
ATTACH;FMTTYPE=image/jpeg:https://www.bibliothek-rheda-wiedenbrueck.de/da
 teien/bilder-hd-format/menschen/buchclub.jpg?cid=9jg.3xz1
UID:11ec1060-02fc-4843-9b02-bc67697d8462
END:VEVENT
END:VCALENDAR
