BEGIN:VCALENDAR
PRODID:-//Ben Fortuna//iCal4j 1.0//EN
VERSION:2.0
CALSCALE:GREGORIAN
BEGIN:VTIMEZONE
TZID:Europe/Berlin
LAST-MODIFIED:20201010T011803Z
TZURL:http://tzurl.org/zoneinfo/Europe/Berlin
X-LIC-LOCATION:Europe/Berlin
X-PROLEPTIC-TZNAME:LMT
BEGIN:STANDARD
TZNAME:CET
TZOFFSETFROM:+005328
TZOFFSETTO:+0100
DTSTART:18930401T000000
END:STANDARD
BEGIN:DAYLIGHT
TZNAME:CEST
TZOFFSETFROM:+0100
TZOFFSETTO:+0200
DTSTART:19160430T230000
RDATE:19400401T020000
RDATE:19430329T020000
RDATE:19460414T020000
RDATE:19470406T030000
RDATE:19480418T020000
RDATE:19490410T020000
RDATE:19800406T020000
END:DAYLIGHT
BEGIN:STANDARD
TZNAME:CET
TZOFFSETFROM:+0200
TZOFFSETTO:+0100
DTSTART:19161001T010000
RDATE:19421102T030000
RDATE:19431004T030000
RDATE:19441002T030000
RDATE:19451118T030000
RDATE:19461007T030000
END:STANDARD
BEGIN:DAYLIGHT
TZNAME:CEST
TZOFFSETFROM:+0100
TZOFFSETTO:+0200
DTSTART:19170416T020000
RRULE:FREQ=YEARLY;UNTIL=19180415T010000Z;BYMONTH=4;BYDAY=3MO
END:DAYLIGHT
BEGIN:STANDARD
TZNAME:CET
TZOFFSETFROM:+0200
TZOFFSETTO:+0100
DTSTART:19170917T030000
RRULE:FREQ=YEARLY;UNTIL=19180916T010000Z;BYMONTH=9;BYDAY=3MO
END:STANDARD
BEGIN:DAYLIGHT
TZNAME:CEST
TZOFFSETFROM:+0100
TZOFFSETTO:+0200
DTSTART:19440403T020000
RRULE:FREQ=YEARLY;UNTIL=19450402T010000Z;BYMONTH=4;BYDAY=1MO
END:DAYLIGHT
BEGIN:DAYLIGHT
TZNAME:CEMT
TZOFFSETFROM:+0200
TZOFFSETTO:+0300
DTSTART:19450524T020000
RDATE:19470511T030000
END:DAYLIGHT
BEGIN:DAYLIGHT
TZNAME:CEST
TZOFFSETFROM:+0300
TZOFFSETTO:+0200
DTSTART:19450924T030000
RDATE:19470629T030000
END:DAYLIGHT
BEGIN:STANDARD
TZNAME:CET
TZOFFSETFROM:+0100
TZOFFSETTO:+0100
DTSTART:19460101T000000
RDATE:19800101T000000
END:STANDARD
BEGIN:STANDARD
TZNAME:CET
TZOFFSETFROM:+0200
TZOFFSETTO:+0100
DTSTART:19471005T030000
RRULE:FREQ=YEARLY;UNTIL=19491002T010000Z;BYMONTH=10;BYDAY=1SU
END:STANDARD
BEGIN:STANDARD
TZNAME:CET
TZOFFSETFROM:+0200
TZOFFSETTO:+0100
DTSTART:19800928T030000
RRULE:FREQ=YEARLY;UNTIL=19950924T010000Z;BYMONTH=9;BYDAY=-1SU
END:STANDARD
BEGIN:DAYLIGHT
TZNAME:CEST
TZOFFSETFROM:+0100
TZOFFSETTO:+0200
DTSTART:19810329T020000
RRULE:FREQ=YEARLY;BYMONTH=3;BYDAY=-1SU
END:DAYLIGHT
BEGIN:STANDARD
TZNAME:CET
TZOFFSETFROM:+0200
TZOFFSETTO:+0100
DTSTART:19961027T030000
RRULE:FREQ=YEARLY;BYMONTH=10;BYDAY=-1SU
END:STANDARD
END:VTIMEZONE
BEGIN:VEVENT
DTSTAMP:20260421T122642Z
DTSTART;TZID=Europe/Berlin:20260509T110000
DTEND;TZID=Europe/Berlin:20260509T114500
SUMMARY:Comic-Zeichen-Workshop mit Paul Paetzel
CREATED:20260421T070035Z
LAST-MODIFIED:20260421T074525Z
DESCRIPTION:Wie wird eine Comic-Figur in Bewegung gezeichnet? Paul Paetze
 l\, Comic-Zeichner und Workshop-Leiter in einer Berliner Jugendkunstschu
 le\, zeigt Schritt für Schritt per Livestream\, wie aus einer Comic-Figu
 r ein Actionheld wird. Mit vorgefertigten Vorlagen geht´s einfach und sc
 hnell zum Selberzeichnen. \n\nZum \"Gratis Comic Tag 2026\" laden wir al
 le interessierten Kids im Alter von 9 bis 14 Jahren zu diesem kostenlose
 n Workshop ein. \n\nDie Veranstaltung dauert 45 Minuten wird jeweils um 
 11.00 Uhr und um 12.00 Uhr angeboten - das Material wird gestellt.\n\nAn
 meldung erforderlich - persönlich oder unter stadtbibliothek@rh-wd.de
LOCATION:Bibliothek Wiedenbrück\, Konferenzraum VHS
X-LOCATION-NAME:Bibliothek Wiedenbrück\, Konferenzraum VHS
X-ORGANIZER-NAME:
CONTACT:stadtbibliothek@rh-wd.de\,05242 - 90405
X-CONTACT-GIVEN-NAME:stadtbibliothek@rh-wd.de
X-CONTACT-TELEPHONE:05242 - 90405
X-IONAS-CATEGORY:Veranstaltung für junge Erwachsene
CATEGORIES:Veranstaltung für junge Erwachsene,Comics,Gratis Comic Tag,Zei
 chnen,Workshop,Zeichnen-Workshop,Bibliothek Wiedebrück
ATTACH;FMTTYPE=image/png:https://www.bibliothek-rheda-wiedenbrueck.de/dat
 eien/bilder-hd-format/logos/gct26-header.png?cid=9jj.3y1g
UID:6c13a413-fcd8-4aec-9980-7f7c84f2d09f
END:VEVENT
END:VCALENDAR
