BEGIN:VCALENDAR
PRODID:-//Ben Fortuna//iCal4j 1.0//EN
VERSION:2.0
CALSCALE:GREGORIAN
BEGIN:VTIMEZONE
TZID:Europe/Berlin
LAST-MODIFIED:20201010T011803Z
TZURL:http://tzurl.org/zoneinfo/Europe/Berlin
X-LIC-LOCATION:Europe/Berlin
X-PROLEPTIC-TZNAME:LMT
BEGIN:STANDARD
TZNAME:CET
TZOFFSETFROM:+005328
TZOFFSETTO:+0100
DTSTART:18930401T000000
END:STANDARD
BEGIN:DAYLIGHT
TZNAME:CEST
TZOFFSETFROM:+0100
TZOFFSETTO:+0200
DTSTART:19160430T230000
RDATE:19400401T020000
RDATE:19430329T020000
RDATE:19460414T020000
RDATE:19470406T030000
RDATE:19480418T020000
RDATE:19490410T020000
RDATE:19800406T020000
END:DAYLIGHT
BEGIN:STANDARD
TZNAME:CET
TZOFFSETFROM:+0200
TZOFFSETTO:+0100
DTSTART:19161001T010000
RDATE:19421102T030000
RDATE:19431004T030000
RDATE:19441002T030000
RDATE:19451118T030000
RDATE:19461007T030000
END:STANDARD
BEGIN:DAYLIGHT
TZNAME:CEST
TZOFFSETFROM:+0100
TZOFFSETTO:+0200
DTSTART:19170416T020000
RRULE:FREQ=YEARLY;UNTIL=19180415T010000Z;BYMONTH=4;BYDAY=3MO
END:DAYLIGHT
BEGIN:STANDARD
TZNAME:CET
TZOFFSETFROM:+0200
TZOFFSETTO:+0100
DTSTART:19170917T030000
RRULE:FREQ=YEARLY;UNTIL=19180916T010000Z;BYMONTH=9;BYDAY=3MO
END:STANDARD
BEGIN:DAYLIGHT
TZNAME:CEST
TZOFFSETFROM:+0100
TZOFFSETTO:+0200
DTSTART:19440403T020000
RRULE:FREQ=YEARLY;UNTIL=19450402T010000Z;BYMONTH=4;BYDAY=1MO
END:DAYLIGHT
BEGIN:DAYLIGHT
TZNAME:CEMT
TZOFFSETFROM:+0200
TZOFFSETTO:+0300
DTSTART:19450524T020000
RDATE:19470511T030000
END:DAYLIGHT
BEGIN:DAYLIGHT
TZNAME:CEST
TZOFFSETFROM:+0300
TZOFFSETTO:+0200
DTSTART:19450924T030000
RDATE:19470629T030000
END:DAYLIGHT
BEGIN:STANDARD
TZNAME:CET
TZOFFSETFROM:+0100
TZOFFSETTO:+0100
DTSTART:19460101T000000
RDATE:19800101T000000
END:STANDARD
BEGIN:STANDARD
TZNAME:CET
TZOFFSETFROM:+0200
TZOFFSETTO:+0100
DTSTART:19471005T030000
RRULE:FREQ=YEARLY;UNTIL=19491002T010000Z;BYMONTH=10;BYDAY=1SU
END:STANDARD
BEGIN:STANDARD
TZNAME:CET
TZOFFSETFROM:+0200
TZOFFSETTO:+0100
DTSTART:19800928T030000
RRULE:FREQ=YEARLY;UNTIL=19950924T010000Z;BYMONTH=9;BYDAY=-1SU
END:STANDARD
BEGIN:DAYLIGHT
TZNAME:CEST
TZOFFSETFROM:+0100
TZOFFSETTO:+0200
DTSTART:19810329T020000
RRULE:FREQ=YEARLY;BYMONTH=3;BYDAY=-1SU
END:DAYLIGHT
BEGIN:STANDARD
TZNAME:CET
TZOFFSETFROM:+0200
TZOFFSETTO:+0100
DTSTART:19961027T030000
RRULE:FREQ=YEARLY;BYMONTH=10;BYDAY=-1SU
END:STANDARD
END:VTIMEZONE
BEGIN:VEVENT
DTSTAMP:20260421T141248Z
DTSTART;TZID=Europe/Berlin:20260529T193000
DTEND;TZID=Europe/Berlin:20260529T210000
SUMMARY:Agatha Christie - The Queen of Crime
CREATED:20260106T095536Z
LAST-MODIFIED:20260202T105856Z
DESCRIPTION:Wir laden Sie zu dieser szenischen Lesung herzlich ein! Die M
 itwirkenden sind Sarah Damhorst als Miss Marple\, Florian Germán als Her
 cules Poirot. Regine Richert führt durch die Lesung.\n\n„Seit Lucrezia B
 orgia bin ich die Frau\, die am meisten Menschen umgebracht hat\, allerd
 ings mit der Schreibmaschine.“ (Dame Agatha Mary Clarissa Christie\, spä
 tere Lady Mellowan\, geb. Miller)\n\nVor 50 Jahren verließ uns eine der 
 größten Schriftstellerinnen der Weltliteratur – Agatha Christie. Sie war
  eine britische Autorin\, die mit Humor\, wachem Verstand und kriminalis
 tischem Spürsinn ihre Erzählungen verfasste\, wobei sie ihrem moralische
 n Anspruch\, sich gegen das Böse und für die Unschuldigen einzusetzen\, 
 immer treu blieb. Damit wurden ihre Werke Vorbilder für die sogenannte K
 lassische Kriminalliteratur. Agatha Christie benutzte eine ganz besonder
 e Methode\, um Spannung zu erzeugen und bis zum Schluss zu erhalten\, we
 shalb man sie scherzhaft auch die „Königin der gepökelten Heringe“ nennt
 . Um Spürhunde von ihrer Spur abzulenken\, legten nämlich Täter bis Mitt
 e des vorigen Jahrhunderts präparierte Fische aus\, um der Polizei zu en
 tkommen. Agatha Christie folgte dieser Methode und legte mit Stift und S
 chreibmaschine ebensolche falschen Fährten in ihren Kriminalerzählungen.
     \n\nAgatha Christies Romane sind Kombinationen von Gesellschafts- un
 d Kriminalromanen. Sie haben in der britischen Kultur ähnlichen Status w
 ie die Werke von Arthur Conan Doyle\, dem Erfinder von Sherlock Holmes u
 nd Dr. Watson. - Auch Agatha Christie erfand  zwei außergewöhnlich fähig
 e „Spürnasen“: den belgischen Meisterdetektiv Hercules Poirot\, der sie 
 lebenslänglich begleitete\, und ihre Lieblingsfigur\, die äußerst pfiffi
 ge Miss Marple.\n\nLeider haben beide nie zusammen ermittelt – aber im W
 iedenbrücker Stadthaus haben Sie die Gelegenheit\, diesen außergewöhnlic
 hen Persönlichkeiten gemeinsam zu begegnen.  \n\nDie Veranstaltung ist e
 ine Kooperation mit der Volkshochschule Reckenberg-Ems.
LOCATION:Bibliothek Wiedenbrück
X-LOCATION-NAME:Bibliothek Wiedenbrück
X-STREET-ADDRESS:Kirchplatz 2
X-POSTAL-CODE:33378
X-LOCALITY:Rheda-Wiedenbrück
X-COUNTRY:Deutschland
X-ORGANIZER-NAME:
CONTACT:Stadtbibliothek Rheda-Wiedenbrück\,stadtbibliothek@rh-wd.de\,0524
 2 - 90405
X-CONTACT-GIVEN-NAME:Stadtbibliothek Rheda-Wiedenbrück
X-CONTACT-EMAIL:stadtbibliothek@rh-wd.de
X-CONTACT-TELEPHONE:05242 - 90405
X-IONAS-CATEGORY:Erwachsenenveranstaltung
CATEGORIES:Erwachsenenveranstaltung,Lesung,Szenische Lesung,Agatha Christ
 ie,Bibliothek Wiedenbrück
ATTACH;FMTTYPE=image/jpeg:https://www.bibliothek-rheda-wiedenbrueck.de/da
 teien/bilder-hd-format/veranstaltungen/agatha-christie.jpg?cid=98y.3y6g
UID:b3ae77d5-bad2-4e23-aa86-72dfded4f859
END:VEVENT
END:VCALENDAR
